﻿BEGIN:VCALENDAR
VERSION:2.0
PRODID:-//XI Foro Comunicación y Escuela - ECPv6.6.4.2//NONSGML v1.0//EN
CALSCALE:GREGORIAN
METHOD:PUBLISH
X-ORIGINAL-URL:https://www.comunicacionyescuela.es/2019
X-WR-CALDESC:Eventos para XI Foro Comunicación y Escuela
REFRESH-INTERVAL;VALUE=DURATION:PT1H
X-Robots-Tag:noindex
X-PUBLISHED-TTL:PT1H
BEGIN:VTIMEZONE
TZID:Europe/Madrid
BEGIN:DAYLIGHT
TZOFFSETFROM:+0100
TZOFFSETTO:+0200
TZNAME:CEST
DTSTART:20190331T010000
END:DAYLIGHT
BEGIN:STANDARD
TZOFFSETFROM:+0200
TZOFFSETTO:+0100
TZNAME:CET
DTSTART:20191027T010000
END:STANDARD
END:VTIMEZONE
BEGIN:VEVENT
DTSTART;VALUE=DATE:20191112
DTEND;VALUE=DATE:20191113
DTSTAMP:20260424T172700
CREATED:20190327T203116Z
LAST-MODIFIED:20190327T203116Z
UID:329-1573516800-1573603199@www.comunicacionyescuela.es
SUMMARY:El Foro en la "Nube"
DESCRIPTION:Las Tecnologías de la Información y la Comunicación son de\nvital importancia en el ámbito escolar (competencia digital)\, no\nen vano formamos parte de esta sociedad\, conocida como de\nla Información y las Nuevas Tecnologías. Por otro lado\, el hecho\nde desarrollar un pensamiento crítico en el alumno es uno de los\naspectos recogidos en la competencia social y cívica. A lo que\nse añade la competencia de conciencia y expresiones culturales\n(expresión\, sensibilidad\, sentido estético).\nLas tres competencias clave mencionadas son los pilares sobre\nlos que se sustenta este proyecto\, que toma forma final en la\npresentación de dos concursos:\nConcurso “Pienso\, luego comento”.\nEl presente concurso\, organizado en el marco de las actividades\ndel XI Foro Comunicación y Escuela\, tiene como finalidad\nprincipal potenciar y fomentar la participación de los alumnos en\nla web del Foro. Es decir\, se pretende que el alumnado del IES\nElisa y Luis Villamil y el de los centros educativos que participan\nen el Foro conozca la identidad digital del proyecto y consulte la\ninformación disponible al respecto en la red.\nDESCRIPCIÓN DEL CONCURSO:\nSe trata de consultar la web del Foro y participar en la misma a\ntravés de comentarios de los distintos artículos publicados.\nPARTICIPANTES:\nPodrán participar en este concurso todos los alumnos del\ninstituto Elisa y Luis Villamil\, así como los de los centros\neducativos participantes.\nBASES:\n»»Cada participante podrá presentar tantos comentarios como\ndesee.\n»»Dichos comentarios irán acompañados del nombre\,\napellidos\, centro al que pertenece el alumno y nivel que\ncursa.\n»»Los comentarios serán objeto de moderación por los\nresponsables de la página web\, no siendo publicados\naquellos que resulten ofensivos o irrespetuosos.\n»»Quedará excluido del concurso todo participante que no sea\nalumno de los centros de enseñanza mencionados.\n»»Asimismo\, se excluirán todos los comentarios que no hayan\nsido debidamente identificados.\n»»Se valorarán los comentarios que muestren opiniones bien\nfundamentadas y que resulten originales\nCATEGORÍAS:\nSe establecen dos categorías:\n»»Alumnado de Educación Primaria.\n»»Alumnado de Educación Secundaria Obligatoria y Bachillerato.\nPLAZOS:\nEl periodo de participación se extiende desde el 28 de marzo\nhasta el 31 de octubre de 2019.\nSELECCIÓN DE LOS GANADORES:\nLa organización realizará una primera selección de los mejores\ncomentarios por categorías. Posteriormente\, un jurado formado\npor profesorado del centro será quién elija el comentario\nganador (que se presentará de manera anónima para dicha\nelección) para cada una de las categorías.\nPREMIOS:\nSe establece un premio por categoría:\n»»Mejor comentario de un alumno de E.P.\n»»Mejor comentario de un alumno de E.S.O y/o Bachillerato\nEl premio consistirá en un vale para comprar dispositivos\nrelacionados con las nuevas tecnologías.\nENTREGA DE PREMIOS:\nLos premios se entregarán en la ceremonia de clausura del XI\nForo\, que se celebrará el 12 de noviembre de 2019. Los alumnos\nganadores serán informados de la hora de la ceremonia de\nclausura y entrega de premios.\nConcurso “Mi visión del Foro”.\nEste concurso persigue el objetivo de implicar al máximo al\nalumnado en el desarrollo de la imagen digital del Foro. Se\npretende que nuestros alumnos y alumnas conozcan a fondo\ntodas las actividades presentadas no solo en el XI Foro\, sino\ntambién en los proyectos predecesores. A través de la web del\nproyecto accederán a la información de que aquellas propuestas\nen las que no han participado directamente.\nDESCRIPCIÓN DEL CONCURSO:\nLos alumnos de las materias TIC (4ºESO y 1º Bachillerato)\naccederán a toda la información del X Foro y de los anteriores a\ntravés de la web\, o bien mediante su participación directa.\nLos alumnos/as de la materia de Tecnologías de la Información\ny la Comunicación de 4º ESO Y 1º de Bachillerato presentarán\nuna imagen digital editada que responda a su visión personal del\nForo Comunicación y Escuela.\nPARTICIPANTES:\nPodrán participar en este concurso todos los alumnos del\ninstituto Elisa y Luis Villamil que cursen la materia TIC tanto\nen 4º ESO como en 1º Bachillerato.\nBASES:\n»»Cada participante habrá de presentar un solo archivo\n(imagen)\, empleando como formato alguno de los más\nusuales en este tipo de archivos multimedia: jpg\, png.\n»»Los profesores/as del Departamento de Tecnología\nasesorarán a su alumnado en la creación de estos archivos\ndigitales\, indicándoles las posibles aplicaciones a utilizar.\n»»El archivo se enviará al correo electrónico del departamento\nde Tecnologías del centro\, y se identificará con el nombre del\nalumno.\n»»Quedará excluido del concurso todo participante que no sea\nalumno de la materia mencionada.\n»»Asimismo\, se excluirán todos los archivos que no hayan sido\ndebidamente identificados.\n»»Se valorará la originalidad y la calidad de la imagen o póster.\n»»La organización del Foro se reserva el derecho de publicar\nlos archivos objeto de participación en el concurso en la\npágina web del proyecto.\nCATEGORÍAS:\nSe establecen dos categorías:\nAlumnado de 4º de ESO que cursa la asignatura de TIC..\nAlumnado de 1º de Bachillerato que cursa la asignatura de TIC.\nPLAZOS:\nEl periodo de participación se extiende desde el 12 de abril\nhasta el 30 de septiembre de 2019.\nSELECCIÓN DE LOS GANADORES:\nLa organización seleccionará la imagen ganadora del XI Foro.\nPREMIOS:\nSe establece un premio por categoría:\n»»Mejor imagen editada del X Foro para el alumnado de TIC 4º\nESO.\n»»Mejor imagen editada del X Foro para el alumnado de TIC 1º\nBachillerato.\nAmbos premios consistirán en un vale para comprar dispositivos\nrelacionados con las nuevas tecnologías.\nENTREGA DE PREMIOS:\nLos premios se entregarán en la ceremonia de clausura del\nXI Foro\, que se celebrará a lo largo del 12 de noviembre de\n2019. Los alumnos ganadores serán informados de la hora\nde la ceremonia de clausura y entrega de premios.
URL:https://www.comunicacionyescuela.es/2019/event/el-foro-en-la-nube/
LOCATION:Casa de cultura de Vegadeo\, Calle Alameda\, 12\, Vegadeo\, Asturias\, 33770\, Spain
CATEGORIES:Proyecto: El Foro en la "Nube"
ATTACH;FMTTYPE=image/jpeg:https://www.comunicacionyescuela.es/2019/wp-content/uploads/2019/03/nube.jpg
END:VEVENT
END:VCALENDAR