﻿BEGIN:VCALENDAR
VERSION:2.0
PRODID:-//XI Foro Comunicación y Escuela - ECPv6.6.4.2//NONSGML v1.0//EN
CALSCALE:GREGORIAN
METHOD:PUBLISH
X-ORIGINAL-URL:https://www.comunicacionyescuela.es/2019
X-WR-CALDESC:Eventos para XI Foro Comunicación y Escuela
REFRESH-INTERVAL;VALUE=DURATION:PT1H
X-Robots-Tag:noindex
X-PUBLISHED-TTL:PT1H
BEGIN:VTIMEZONE
TZID:Europe/Madrid
BEGIN:DAYLIGHT
TZOFFSETFROM:+0100
TZOFFSETTO:+0200
TZNAME:CEST
DTSTART:20190331T010000
END:DAYLIGHT
BEGIN:STANDARD
TZOFFSETFROM:+0200
TZOFFSETTO:+0100
TZNAME:CET
DTSTART:20191027T010000
END:STANDARD
END:VTIMEZONE
BEGIN:VEVENT
DTSTART;TZID=Europe/Madrid:20190514T123000
DTEND;TZID=Europe/Madrid:20190514T160000
DTSTAMP:20260425T155426
CREATED:20190327T171317Z
LAST-MODIFIED:20190328T114944Z
UID:191-1557837000-1557849600@www.comunicacionyescuela.es
SUMMARY:Visita del Consejo Rectoral de la Universidad de Oviedo
DESCRIPTION:Se llevará a cabo\, con carácter extraordinario\, la reunión\nsemanal del Consejo Rectoral de la Universidad de Oviedo\n(órgano de gobierno de la Universidad)\, en Vegadeo.\nPROGRAMA:\n»»12\,30 horas: Visita de los miembros del Consejo Rectoral\nde la Universidad de Oviedo al IES Elisa y Luis Villamil.\nEncuentro con el profesorado\n»»13 horas: Encuentro con los medios de comunicación\n»»13\,30 horas: Recepción en el Ayuntamiento de Vegadeo\n»»16 horas: Reunión semanal del Consejo Rectoral en las\ndependencias del IES Elisa y Luis Villamil
URL:https://www.comunicacionyescuela.es/2019/event/visita-del-consejo-rectoral-de-la-universidad-de-oviedo/
LOCATION:IES Elisa y Luis Villamil\, Noveledo\, 57\, Vegadeo\, Asturias\, 33770\, Spain
CATEGORIES:Conferencias, Encuentros con artistas, Conciertos, Itinerarios Didácticos y demás actividades
ATTACH;FMTTYPE=image/jpeg:https://www.comunicacionyescuela.es/2019/wp-content/uploads/2019/03/uniovi.jpg
END:VEVENT
END:VCALENDAR