﻿BEGIN:VCALENDAR
VERSION:2.0
PRODID:-//XI Foro Comunicación y Escuela - ECPv6.6.4.2//NONSGML v1.0//EN
CALSCALE:GREGORIAN
METHOD:PUBLISH
X-WR-CALNAME:XI Foro Comunicación y Escuela
X-ORIGINAL-URL:https://www.comunicacionyescuela.es/2019
X-WR-CALDESC:Eventos para XI Foro Comunicación y Escuela
REFRESH-INTERVAL;VALUE=DURATION:PT1H
X-Robots-Tag:noindex
X-PUBLISHED-TTL:PT1H
BEGIN:VTIMEZONE
TZID:Europe/Madrid
BEGIN:DAYLIGHT
TZOFFSETFROM:+0100
TZOFFSETTO:+0200
TZNAME:CEST
DTSTART:20190331T010000
END:DAYLIGHT
BEGIN:STANDARD
TZOFFSETFROM:+0200
TZOFFSETTO:+0100
TZNAME:CET
DTSTART:20191027T010000
END:STANDARD
END:VTIMEZONE
BEGIN:VEVENT
DTSTART;TZID=Europe/Madrid:20190509T123000
DTEND;TZID=Europe/Madrid:20190509T123000
DTSTAMP:20260425T155428
CREATED:20190327T170744Z
LAST-MODIFIED:20190328T114855Z
UID:187-1557405000-1557405000@www.comunicacionyescuela.es
SUMMARY:Jornada: “Aviación y Escuela”
DESCRIPTION:PARTICIPA:\nInstituto de Educación Secundaria “Elisa y Luis Villamil”. Vegadeo.\nClase de la asignatura de Tecnología Industrial\nsobre cómo se controla la navegación aérea\nINTERVIENE:\nD. Carlos San Martín Castaño. Director del Aeropuerto de\nAsturias (Aena S.A.).\nDña. Mercedes Martínez Álvarez. Profesora de la asignatura de\nTecnología Industrial.\nAula nº 14 del IES Elisa y Luis Villamil.- 10\,20 horas.\nDirigida a los alumnos de 1º de Bachillerato que cursan la asignatura\nde Tecnología Industrial.\nVisita a la Torre de control y demás instalaciones\ndel Aeropuerto de Asturias que están\nrelacionadas con la navegación aérea\nINTERVIENEN:\nD. Carlos San Martín Castaño. Director del Aeropuerto de\nAsturias (Aena S.A.).\nD. Arturo Arias Méndez. Controlador aéreo. Jefe de la Torre de\ncontrol del Aeropuerto de Asturias (Enaire).\nAeropuerto de Asturias.- 12\,30 horas.\nDirigida a los alumnos de 1º de Bachillerato que cursan la asignatura\nde Tecnología Industrial.
URL:https://www.comunicacionyescuela.es/2019/event/jornada-aviacion-y-escuela/
LOCATION:Aeropuerto de Asturias\, Santiago del Monte\, Castrillón\, Asturias\, 33459\, Spain
CATEGORIES:Conferencias, Encuentros con artistas, Conciertos, Itinerarios Didácticos y demás actividades
ATTACH;FMTTYPE=image/jpeg:https://www.comunicacionyescuela.es/2019/wp-content/uploads/2019/03/aeropASturias2.jpg
END:VEVENT
END:VCALENDAR