﻿BEGIN:VCALENDAR
VERSION:2.0
PRODID:-//XI Foro Comunicación y Escuela - ECPv6.6.4.2//NONSGML v1.0//EN
CALSCALE:GREGORIAN
METHOD:PUBLISH
X-WR-CALNAME:XI Foro Comunicación y Escuela
X-ORIGINAL-URL:https://www.comunicacionyescuela.es/2019
X-WR-CALDESC:Eventos para XI Foro Comunicación y Escuela
REFRESH-INTERVAL;VALUE=DURATION:PT1H
X-Robots-Tag:noindex
X-PUBLISHED-TTL:PT1H
BEGIN:VTIMEZONE
TZID:Europe/Madrid
BEGIN:DAYLIGHT
TZOFFSETFROM:+0100
TZOFFSETTO:+0200
TZNAME:CEST
DTSTART:20190331T010000
END:DAYLIGHT
BEGIN:STANDARD
TZOFFSETFROM:+0200
TZOFFSETTO:+0100
TZNAME:CET
DTSTART:20191027T010000
END:STANDARD
END:VTIMEZONE
BEGIN:VEVENT
DTSTART;VALUE=DATE:20190421
DTEND;VALUE=DATE:20190422
DTSTAMP:20260425T175122
CREATED:20190327T164703Z
LAST-MODIFIED:20190327T165800Z
UID:172-1555804800-1555891199@www.comunicacionyescuela.es
SUMMARY:Real Club Deportivo de La Coruña - Extremadura
DESCRIPTION:PARTICIPA:\nInstituto de Educación Secundaria “Elisa y Luis Villamil”. Vegadeo.\nAsistencia al partido de fútbol en el Estadio de Riazor entre el\nReal Club Deportivo de La Coruña y el Extremadura.\nDirigido a los alumnos participantes ene l programa RECREARTE y\nalumnos de Educación Secundaria y Bachillerato.\nCOLABORA:\nDeportivo de la Coruña
URL:https://www.comunicacionyescuela.es/2019/event/real-club-deportivo-de-la-coruna-extremadura/
LOCATION:Ciudad Deportiva de Riazor\, Rúa Manuel Murguía\, S/N\, A Coruña\, Coruña\, 15011\, Spain
CATEGORIES:Conferencias, Encuentros con artistas, Conciertos, Itinerarios Didácticos y demás actividades
ATTACH;FMTTYPE=image/jpeg:https://www.comunicacionyescuela.es/2019/wp-content/uploads/2019/03/riazor.jpg
END:VEVENT
END:VCALENDAR